BEGIN:VCALENDAR
VERSION:2.0
PRODID:-//True Wealth Ventures  - ECPv6.15.18//NONSGML v1.0//EN
CALSCALE:GREGORIAN
METHOD:PUBLISH
X-WR-CALNAME:True Wealth Ventures 
X-ORIGINAL-URL:https://truewealthvc.com
X-WR-CALDESC:Events for True Wealth Ventures 
REFRESH-INTERVAL;VALUE=DURATION:PT1H
X-Robots-Tag:noindex
X-PUBLISHED-TTL:PT1H
BEGIN:VTIMEZONE
TZID:America/Chicago
BEGIN:DAYLIGHT
TZOFFSETFROM:-0600
TZOFFSETTO:-0500
TZNAME:CDT
DTSTART:20250309T080000
END:DAYLIGHT
BEGIN:STANDARD
TZOFFSETFROM:-0500
TZOFFSETTO:-0600
TZNAME:CST
DTSTART:20251102T070000
END:STANDARD
BEGIN:DAYLIGHT
TZOFFSETFROM:-0600
TZOFFSETTO:-0500
TZNAME:CDT
DTSTART:20260308T080000
END:DAYLIGHT
BEGIN:STANDARD
TZOFFSETFROM:-0500
TZOFFSETTO:-0600
TZNAME:CST
DTSTART:20261101T070000
END:STANDARD
BEGIN:DAYLIGHT
TZOFFSETFROM:-0600
TZOFFSETTO:-0500
TZNAME:CDT
DTSTART:20270314T080000
END:DAYLIGHT
BEGIN:STANDARD
TZOFFSETFROM:-0500
TZOFFSETTO:-0600
TZNAME:CST
DTSTART:20271107T070000
END:STANDARD
END:VTIMEZONE
BEGIN:VEVENT
DTSTART;VALUE=DATE:20260420
DTEND;VALUE=DATE:20260423
DTSTAMP:20260420T041602
CREATED:20260205T052552Z
LAST-MODIFIED:20260210T033858Z
UID:18454-1776643200-1776902399@truewealthvc.com
SUMMARY:April 20-22\, 2026 – Kerry & Sara attending: Earth X E-Capital Summit [Dallas\, Texas]
DESCRIPTION:The 2026 E-Capital Summit will be comprised of the following main events:\n\nInvestment Forum: Conference with engaging fireside chats between senior industry leaders coupled with featured presentations by early-stage and growth-stage innovators\nE-Capital Connections: One-on-one meetings between investors\, dealmakers\, & innovators\nE-Commercialization Connections: Sales-focused dealmaking event connecting innovators with industry seeking new technologies/products\nEarthX Climate Tech Prize: Highly competitive public pitch competition where early-stage startups compete for a cash prize\nOceans Innovation Prize: Pitch competition for oceans-focused startups\nEarthxCapital Women’s Leadership Symposium: Women’s conference focused on innovation and entrepreneurship\n\nRegistration Information:\nEvent is invitation only. Innovator Applications due by February 9th.\nClick here to apply.
URL:https://truewealthvc.com/events/april-20-22-2026-kerry-sara-attending-earth-x-e-capital-summit-dallas-texas/
LOCATION:Hilton Anatole\, 2201 N Stemmons Fwy\, Dallas\, TX\, 75207\, United States
CATEGORIES:upcoming events
ATTACH;FMTTYPE=image/png:/wp-content/uploads/2026/02/3.png
END:VEVENT
END:VCALENDAR